BEGIN:VCALENDAR
VERSION:2.0
PRODID:-//Fahrschule Kern - ECPv5.1.2.1//NONSGML v1.0//EN
CALSCALE:GREGORIAN
METHOD:PUBLISH
X-WR-CALNAME:Fahrschule Kern
X-ORIGINAL-URL:https://www.fahrschule-kern.at
X-WR-CALDESC:Veranstaltungen für Fahrschule Kern
BEGIN:VTIMEZONE
TZID:Europe/Berlin
BEGIN:DAYLIGHT
TZOFFSETFROM:+0100
TZOFFSETTO:+0200
TZNAME:CEST
DTSTART:20260329T010000
END:DAYLIGHT
BEGIN:STANDARD
TZOFFSETFROM:+0200
TZOFFSETTO:+0100
TZNAME:CET
DTSTART:20261025T010000
END:STANDARD
END:VTIMEZONE
BEGIN:VEVENT
DTSTART;TZID=Europe/Berlin:20260403T130000
DTEND;TZID=Europe/Berlin:20260403T183000
DTSTAMP:20260423T090817
CREATED:20200618T201119Z
LAST-MODIFIED:20260212T153632Z
UID:3367-1775221200-1775241000@www.fahrschule-kern.at
SUMMARY:Motorrad
DESCRIPTION:Melde dich für 1 Kurstag in der Fahrschule Kern in Mattighofen an! \nDie Anmeldung zum Kurs ist verbindlich. Du kannst deine Teilnahme jedoch jederzeit stornieren. Bitte beachte\, dass in diesem Fall eine Gebühr anfällt. \n
URL:https://www.fahrschule-kern.at/termine/motorrad-kurs-7-2-2-2-2-2-7/
LOCATION:Fahrschule Kern in Mattighofen\, Braunauerstraße 1a\, Mattighofen\, 5230
CATEGORIES:Motorrad 1 Kurstag Fahrschulzentrum Uttendorf
END:VEVENT
END:VCALENDAR