BEGIN:VCALENDAR
VERSION:2.0
PRODID:-//Fahrschule Kern - ECPv5.1.2.1//NONSGML v1.0//EN
CALSCALE:GREGORIAN
METHOD:PUBLISH
X-WR-CALNAME:Fahrschule Kern
X-ORIGINAL-URL:https://www.fahrschule-kern.at
X-WR-CALDESC:Veranstaltungen für Fahrschule Kern
BEGIN:VTIMEZONE
TZID:Europe/Berlin
BEGIN:DAYLIGHT
TZOFFSETFROM:+0100
TZOFFSETTO:+0200
TZNAME:CEST
DTSTART:20210328T010000
END:DAYLIGHT
BEGIN:STANDARD
TZOFFSETFROM:+0200
TZOFFSETTO:+0100
TZNAME:CET
DTSTART:20211031T010000
END:STANDARD
END:VTIMEZONE
BEGIN:VEVENT
DTSTART;TZID=Europe/Berlin:20211223T170000
DTEND;TZID=Europe/Berlin:20211223T204000
DTSTAMP:20260422T203507
CREATED:20200609T080613Z
LAST-MODIFIED:20211124T171709Z
UID:1334-1640278800-1640292000@www.fahrschule-kern.at
SUMMARY:B mit 18 & L17 ONLINE 23.12
DESCRIPTION:Melde dich zum 2 wöchigen Schnellkurs an! \n
URL:https://www.fahrschule-kern.at/termine/b-mit-18-l17-9/
LOCATION:Braunau\, Salzburgerstraße 88\, Braunau\, 5280
CATEGORIES:Schnellkurs Klasse B Online
END:VEVENT
END:VCALENDAR